BEGIN:VCALENDAR
VERSION:2.0
PRODID:-//Madera Rescue Mission - ECPv5.8.1//NONSGML v1.0//EN
CALSCALE:GREGORIAN
METHOD:PUBLISH
X-WR-CALNAME:Madera Rescue Mission
X-ORIGINAL-URL:https://maderarescue.org
X-WR-CALDESC:Events for Madera Rescue Mission
BEGIN:VTIMEZONE
TZID:UTC
BEGIN:STANDARD
TZOFFSETFROM:+0000
TZOFFSETTO:+0000
TZNAME:UTC
DTSTART:20170101T000000
END:STANDARD
END:VTIMEZONE
BEGIN:VEVENT
DTSTART;TZID=UTC:20171216T100000
DTEND;TZID=UTC:20171216T150000
DTSTAMP:20260424T053805
CREATED:20150331T165135Z
LAST-MODIFIED:20171116T211440Z
UID:2521-1513418400-1513436400@maderarescue.org
SUMMARY:Christmas Toy Give Away
DESCRIPTION:You heard right! We will be hosting our annual toy give away where every child present under the age of 12 will get a free gift. Come join us as we show the community the REAL meaning of Christmas--> JESUS!!! There will be a delicious meal provided by our kitchen crew. Questions regarding this even and/or how to sign up to volunteer call MRM at 559-675-8321
URL:https://maderarescue.org/event/christmas-toy-give-away/
LOCATION:Madera Rescue Mission\, 332 Elm Street\, Madera\, CA\, 93638\, United States
ATTACH;FMTTYPE=image/jpeg:https://maderarescue.org/wp-content/uploads/2014/10/Christmas-toy-give-away-pic.jpg
END:VEVENT
END:VCALENDAR