BEGIN:VCALENDAR
VERSION:2.0
PRODID:-//Madera Rescue Mission - ECPv5.8.1//NONSGML v1.0//EN
CALSCALE:GREGORIAN
METHOD:PUBLISH
X-WR-CALNAME:Madera Rescue Mission
X-ORIGINAL-URL:https://maderarescue.org
X-WR-CALDESC:Events for Madera Rescue Mission
BEGIN:VTIMEZONE
TZID:UTC
BEGIN:STANDARD
TZOFFSETFROM:+0000
TZOFFSETTO:+0000
TZNAME:UTC
DTSTART:20210101T000000
END:STANDARD
END:VTIMEZONE
BEGIN:VEVENT
DTSTART;TZID=UTC:20210727T090000
DTEND;TZID=UTC:20210727T120000
DTSTAMP:20260422T210413
CREATED:20210727T174609Z
LAST-MODIFIED:20210727T174609Z
UID:2963-1627376400-1627387200@maderarescue.org
SUMMARY:Commodities Give-away
DESCRIPTION:First come\, first serve drive through food box give-away. 9am-12noon.
URL:https://maderarescue.org/event/commodities-give-away/
LOCATION:Madera Rescue Mission\, 332 Elm Street\, Madera\, CA\, 93638\, United States
END:VEVENT
END:VCALENDAR