BEGIN:VCALENDAR
VERSION:2.0
PRODID:-//Madera Rescue Mission - ECPv5.8.1//NONSGML v1.0//EN
CALSCALE:GREGORIAN
METHOD:PUBLISH
X-WR-CALNAME:Madera Rescue Mission
X-ORIGINAL-URL:https://maderarescue.org
X-WR-CALDESC:Events for Madera Rescue Mission
BEGIN:VTIMEZONE
TZID:UTC
BEGIN:STANDARD
TZOFFSETFROM:+0000
TZOFFSETTO:+0000
TZNAME:UTC
DTSTART:20210101T000000
END:STANDARD
END:VTIMEZONE
BEGIN:VEVENT
DTSTART;VALUE=DATE:20210224
DTEND;VALUE=DATE:20210225
DTSTAMP:20260423T064814
CREATED:20200103T205433Z
LAST-MODIFIED:20210216T194133Z
UID:2789-1614124800-1614211199@maderarescue.org
SUMMARY:Food Box Distribution
DESCRIPTION:First come\, first serve.
URL:https://maderarescue.org/event/food-box-distribution-12/
LOCATION:Madera Rescue Mission\, 332 Elm Street\, Madera\, CA\, 93638\, United States
END:VEVENT
END:VCALENDAR