BEGIN:VCALENDAR
VERSION:2.0
PRODID:-//Madera Rescue Mission - ECPv5.8.1//NONSGML v1.0//EN
CALSCALE:GREGORIAN
METHOD:PUBLISH
X-WR-CALNAME:Madera Rescue Mission
X-ORIGINAL-URL:https://maderarescue.org
X-WR-CALDESC:Events for Madera Rescue Mission
BEGIN:VTIMEZONE
TZID:UTC
BEGIN:STANDARD
TZOFFSETFROM:+0000
TZOFFSETTO:+0000
TZNAME:UTC
DTSTART:20210101T000000
END:STANDARD
END:VTIMEZONE
BEGIN:VEVENT
DTSTART;TZID=UTC:20210312T130000
DTEND;TZID=UTC:20210312T150000
DTSTAMP:20260423T020736
CREATED:20210216T200910Z
LAST-MODIFIED:20210216T201618Z
UID:2924-1615554000-1615561200@maderarescue.org
SUMMARY:Food Box Give-Away\, Sign up through Food Bank
DESCRIPTION:
URL:https://maderarescue.org/event/food-box-give-away-sign-up-through-food-bank-3/
END:VEVENT
END:VCALENDAR