BEGIN:VCALENDAR
VERSION:2.0
PRODID:-//Madera Rescue Mission - ECPv5.8.1//NONSGML v1.0//EN
CALSCALE:GREGORIAN
METHOD:PUBLISH
X-WR-CALNAME:Madera Rescue Mission
X-ORIGINAL-URL:https://maderarescue.org
X-WR-CALDESC:Events for Madera Rescue Mission
BEGIN:VTIMEZONE
TZID:UTC
BEGIN:STANDARD
TZOFFSETFROM:+0000
TZOFFSETTO:+0000
TZNAME:UTC
DTSTART:20170101T000000
END:STANDARD
END:VTIMEZONE
BEGIN:VEVENT
DTSTART;TZID=UTC:20171208T130000
DTEND;TZID=UTC:20171208T150000
DTSTAMP:20260424T082547
CREATED:20171109T185435Z
LAST-MODIFIED:20171116T223028Z
UID:2668-1512738000-1512745200@maderarescue.org
SUMMARY:Gift Wrapping
DESCRIPTION:Help us wrap toys for our give away on Saturday the 16th.
URL:https://maderarescue.org/event/gift-wrapping-2/
LOCATION:Madera Rescue Mission\, 332 Elm Street\, Madera\, CA\, 93638\, United States
ATTACH;FMTTYPE=application/pdf:https://maderarescue.org/wp-content/uploads/2017/11/Volunteer-flyer-2.pdf
END:VEVENT
END:VCALENDAR