BEGIN:VCALENDAR
VERSION:2.0
PRODID:-//Madera Rescue Mission - ECPv5.8.1//NONSGML v1.0//EN
CALSCALE:GREGORIAN
METHOD:PUBLISH
X-WR-CALNAME:Madera Rescue Mission
X-ORIGINAL-URL:https://maderarescue.org
X-WR-CALDESC:Events for Madera Rescue Mission
BEGIN:VTIMEZONE
TZID:UTC
BEGIN:STANDARD
TZOFFSETFROM:+0000
TZOFFSETTO:+0000
TZNAME:UTC
DTSTART:20150101T000000
END:STANDARD
END:VTIMEZONE
BEGIN:VEVENT
DTSTART;TZID=UTC:20151205T080000
DTEND;TZID=UTC:20151205T170000
DTSTAMP:20260424T103429
CREATED:20150330T152923Z
LAST-MODIFIED:20150330T154418Z
UID:2507-1449302400-1449334800@maderarescue.org
SUMMARY:Harley Davidson Motorcycle Raffle!!!
DESCRIPTION:That is right folks!!! We are raffling off a 2009 Harley Davidson Sportster. Drawing set to be held on December 5th\, 2015 unless tickets sell out before then!!! \nTickets are only 10 DOLLARS or 6 for $50.00
URL:https://maderarescue.org/event/harley-davidson-motorcycle-raffle/
LOCATION:Madera Rescue Mission\, 332 Elm Street\, Madera\, CA\, 93638\, United States
ATTACH;FMTTYPE=image/jpeg:https://maderarescue.org/wp-content/uploads/2015/03/Bike-Poster.jpg
END:VEVENT
END:VCALENDAR